BEGIN:VCALENDAR
VERSION:2.0
PRODID:-//eventon.com NONSGML v1.0//EN
BEGIN:VEVENT
UID:69e6475cc0aea
DTSTAMP:20260420T173348
DTSTART:20260224T083000Z
DTEND:20260224T093000Z
LOCATION:Trg bana Josipa Jelačića 19 
SUMMARY:[:hr]ČETIRI ČUDESNE NEZGODE[:]
DESCRIPTION: [:hr]Zvonimir Balog/ Jelena Sitar Cvetko Cijena ulaznice: 5\, 00 eura[:]
END:VEVENT
END:VCALENDAR