BEGIN:VCALENDAR
VERSION:2.0
PRODID:-//eventon.com NONSGML v1.0//EN
BEGIN:VEVENT
UID:69e6475d511f2
DTSTAMP:20260420T173349
DTSTART:20260227T083000Z
DTEND:20260227T093000Z
LOCATION:Trg bana Josipa Jelačića 19 
SUMMARY:[:hr]POSTOLAR I VRAG[:]
DESCRIPTION: [:hr]August Šenoa/ Milan Fošner Cijena ulaznice: 5\, 00 eura[:]
END:VEVENT
END:VCALENDAR